BEGIN:VCALENDAR
VERSION:2.0
PRODID:-//Labtim d.o.o. - ECPv6.15.20//NONSGML v1.0//EN
CALSCALE:GREGORIAN
METHOD:PUBLISH
X-ORIGINAL-URL:https://labtim.si
X-WR-CALDESC:Dogodki za Labtim d.o.o.
REFRESH-INTERVAL;VALUE=DURATION:PT1H
X-Robots-Tag:noindex
X-PUBLISHED-TTL:PT1H
BEGIN:VTIMEZONE
TZID:Europe/Ljubljana
BEGIN:DAYLIGHT
TZOFFSETFROM:+0100
TZOFFSETTO:+0200
TZNAME:CEST
DTSTART:20230326T010000
END:DAYLIGHT
BEGIN:STANDARD
TZOFFSETFROM:+0200
TZOFFSETTO:+0100
TZNAME:CET
DTSTART:20231029T010000
END:STANDARD
BEGIN:DAYLIGHT
TZOFFSETFROM:+0100
TZOFFSETTO:+0200
TZNAME:CEST
DTSTART:20240331T010000
END:DAYLIGHT
BEGIN:STANDARD
TZOFFSETFROM:+0200
TZOFFSETTO:+0100
TZNAME:CET
DTSTART:20241027T010000
END:STANDARD
BEGIN:DAYLIGHT
TZOFFSETFROM:+0100
TZOFFSETTO:+0200
TZNAME:CEST
DTSTART:20250330T010000
END:DAYLIGHT
BEGIN:STANDARD
TZOFFSETFROM:+0200
TZOFFSETTO:+0100
TZNAME:CET
DTSTART:20251026T010000
END:STANDARD
END:VTIMEZONE
BEGIN:VEVENT
DTSTART;TZID=Europe/Ljubljana:20241015T093000
DTEND;TZID=Europe/Ljubljana:20241015T160000
DTSTAMP:20260421T204457
CREATED:20240903T122836Z
LAST-MODIFIED:20240909T103907Z
UID:5336-1728984600-1729008000@labtim.si
SUMMARY:Obvladovanje organske sinteze in sinteze peptidov: napredne tehnike in orodja
DESCRIPTION:V jeseni prirejamo zanimiv seminar\, ki bo potekal dne 15.10.2024 v konferenčni sobi hotela Urban Ring (Cmokač). Predstavili bomo rešitve podjetja Biotage na področju organske sinteze\, sinteze peptidov in flash kromatografije\, evaporacije topil ter rešitve za »Large scale« proizvodne procese; flash kromatografija\, ter »scavangers« odstranjevalce kovin in drugih komponent. Seminar bo vključeval predavanja\, možen bo ogled instrumentov. Na dogodku bosta prisotna specialista podjetja Biotage\,  g. Fausto Chiapparini ter specialist za »Scale up« rešitve g. Bernd Schnippenkoetter. \nSeminar je namenjen vsem\, ki se ukvarjajo s sintezo organskih spojin\, s sintezo peptidov ter »Up-Scale« čiščenjem produktov. Pridobili boste praktične izkušnje z najsodobnejšimi instrumenti\, ter imeli možnost izmenjave informacij s specialisti! \n  \nGlavne teme seminarja bodo: \n\nSinteza s pomočjo mikrovalov in sinteza peptidov; Biotage rešitve pri celotnem poteku organske sinteze\nFlash kromatografija za različne aplikacije\, novosti na področju flash instrumentov podjetja Biotage\, predstavitev modelov ter dodatkov za hitro in učinkovito ločbo komponent\nBiotage scale up rešitve; »Large scale« flash sistemi\, različne stacionarne faze\, lovilci kovin ter drugih primesi: enostavna pot do čistega produkta\n\nNa dogodku bo tudi možnost ogleda instrumentov Biotage flash Selekt kromatografskega sistema\, Initiator + sistema za sintezo s pomočjo mikrovalov in V-10 touch instrumenta za evaporacijo\, pod vodstvom Biotage specialistov in aplikativne podpore Labtima. \nPredavanja bodo v angleškem jeziku. Udeležba je brezplačna\, obvezna je predhodna prijava. \nVljudno vabljeni! \n\n \n\n\n\nVaše ime in priimek *\n\n\nEmail naslov *\n\n\n\n\nIme podjetja *\n\n\n\n\nTelefonska številka *\n\n\n\n\nŠtevilo udeležencev *\n\n\n\n\nSporočilo0 / 180\n\n\n \n\n\nPošlji sporočilo\n\n\nPlease do not fill in this field.
URL:https://labtim.si/event/obvladovanje-organske-sinteze-in-sinteze-peptidov-napredne-tehnike-in-orodja/
LOCATION:Urban Center\, Dolenjska cesta 242c\, Ljubljana\, 1000\, Slovenia
CATEGORIES:izobraževanja
END:VEVENT
BEGIN:VEVENT
DTSTART;VALUE=DATE:20241016
DTEND;VALUE=DATE:20241018
DTSTAMP:20260421T204457
CREATED:20240619T111557Z
LAST-MODIFIED:20241002T115232Z
UID:5284-1729036800-1729209599@labtim.si
SUMMARY:Validacija metod v tekočinski kromatografiji
DESCRIPTION:To dvodnevno izobraževanje priporočamo vsem analitikom\, ki se soočajo s strogimi zahtevami regulatornih institucij na področju validacij metod v tekočinski kromatografiji in želijo v laboratoriju implementirati sofisticiran sistem za planiranje\, izvajanje validacij ter obdelavo podatkov in izdelavo poročila. Prvi dan se posvetimo smernicam relevantnih regulatornih institucij in praktičnim nasvetom za planiranje poskusov\, drugi dan pa se lotimo praktičnega dela\, od planiranja poskusov in izvajanja meritev\, do obdelave podatkov in interpretacije zaključkov. \n 
URL:https://labtim.si/event/validacija-metod-v-tekocinski-kromatografiji/
LOCATION:Labtim ODŽ\, Ob dolenjski železnici 12\, Ljubljana\, 1000\, Slovenija
CATEGORIES:izobraževanja
ORGANIZER;CN="Labtim d.o.o.":MAILTO:info@labtim.si
END:VEVENT
BEGIN:VEVENT
DTSTART;VALUE=DATE:20241022
DTEND;VALUE=DATE:20241025
DTSTAMP:20260421T204457
CREATED:20240619T105721Z
LAST-MODIFIED:20240619T111249Z
UID:5277-1729555200-1729814399@labtim.si
SUMMARY:29. Mednarodna konferenca o materialih in tehnologiji (ICM&T)
DESCRIPTION:Kot razstavljalci se bomo letos udeležili 29. Mednarodne konference o materialih in tehnologiji (29. ICM&T)\, ki bo potekala od 22. do 24. oktobra 2024. Ta prestižni dogodek združuje strokovnjake iz raziskovalnih inštitutov\, univerz in industrije\, ki delujejo na področju kovinskih materialov\, biomaterialov\, 3D-tiskanih materialov\, kompozitnih materialov\, keramike\, nanomaterialov ter simulacij in modeliranja. \nCilj konference je vzpostaviti dialog med potrebami industrije in raziskovalnimi dosežki akademske sfere ter omogočiti učinkovito prenašanje znanja iz raziskovalnih ustanov v industrijo. \nVeselimo se sodelovanja in izmenjave znanja\, veseli bomo vaše družbe!
URL:https://labtim.si/event/29-mednarodna-konferenca-o-materialih-in-tehnologiji/
LOCATION:Kongresni center Grand Hotela Bernardin\, Portorož\, Obala 2\, Portorož\, 6320\, Slovenia
CATEGORIES:konference
END:VEVENT
END:VCALENDAR