BEGIN:VCALENDAR
VERSION:2.0
PRODID:-//Labtim d.o.o. - ECPv6.15.20//NONSGML v1.0//EN
CALSCALE:GREGORIAN
METHOD:PUBLISH
X-WR-CALNAME:Labtim d.o.o.
X-ORIGINAL-URL:https://labtim.si
X-WR-CALDESC:Dogodki za Labtim d.o.o.
REFRESH-INTERVAL;VALUE=DURATION:PT1H
X-Robots-Tag:noindex
X-PUBLISHED-TTL:PT1H
BEGIN:VTIMEZONE
TZID:Europe/Ljubljana
BEGIN:DAYLIGHT
TZOFFSETFROM:+0100
TZOFFSETTO:+0200
TZNAME:CEST
DTSTART:20230326T010000
END:DAYLIGHT
BEGIN:STANDARD
TZOFFSETFROM:+0200
TZOFFSETTO:+0100
TZNAME:CET
DTSTART:20231029T010000
END:STANDARD
BEGIN:DAYLIGHT
TZOFFSETFROM:+0100
TZOFFSETTO:+0200
TZNAME:CEST
DTSTART:20240331T010000
END:DAYLIGHT
BEGIN:STANDARD
TZOFFSETFROM:+0200
TZOFFSETTO:+0100
TZNAME:CET
DTSTART:20241027T010000
END:STANDARD
BEGIN:DAYLIGHT
TZOFFSETFROM:+0100
TZOFFSETTO:+0200
TZNAME:CEST
DTSTART:20250330T010000
END:DAYLIGHT
BEGIN:STANDARD
TZOFFSETFROM:+0200
TZOFFSETTO:+0100
TZNAME:CET
DTSTART:20251026T010000
END:STANDARD
END:VTIMEZONE
BEGIN:VEVENT
DTSTART;VALUE=DATE:20241119
DTEND;VALUE=DATE:20241120
DTSTAMP:20260421T192256
CREATED:20240619T111800Z
LAST-MODIFIED:20240619T111800Z
UID:5288-1731974400-1732060799@labtim.si
SUMMARY:HPLC & UPLC: Praktični pristop
DESCRIPTION:Delavnica je sestavljena in teoretičnea in praktičnega dela in je namenjena analitikom začetnikom\, ki delajo na HPLC/UPLC sistemih. Spoznamo se z dogajanjem na koloni z namenom reševanja osnovnih problemov\, s posameznimi komponentami HPLC/UPLC sistemov\, z načinom priprave raztopin in z osnovami obdelave podatkov za pravilno ovrednotenje kromatogramov. Posvetimo se tudi osnovam dobre laboratorijske prakse\, kar je ključno pri zagotavljanju verodostojnosti analitskih rezultatov.
URL:https://labtim.si/event/hplc-uplc-prakticni-pristop/
LOCATION:Labtim ODŽ\, Ob dolenjski železnici 12\, Ljubljana\, 1000\, Slovenija
CATEGORIES:izobraževanja
END:VEVENT
BEGIN:VEVENT
DTSTART;VALUE=DATE:20241120
DTEND;VALUE=DATE:20241121
DTSTAMP:20260421T192256
CREATED:20240619T111905Z
LAST-MODIFIED:20241217T075623Z
UID:5290-1732060800-1732147199@labtim.si
SUMMARY:HPLC & UPLC: Reševanje in preprečevanje težav
DESCRIPTION:Delavnica je namenjena analitikom\, ki že imajo izkušnje z delom na HPLC/UPLC sistemih. Osredotočimo se na uvedbo dobre prakse v delo z namenom zmanjševanja možnih kromatografskih težav in zagotavljanja verodostojnosti analitskih rezultatov. Spoznamo učinkovite in ekonomične načine reševanja najpogostejših težav na HPLC in UPLC sistemih in se preizkusimo v reševanju praktičnih primerov.
URL:https://labtim.si/event/hplc-uplc-resevanje-in-preprecevanje-tezav/
LOCATION:Labtim ODŽ\, Ob dolenjski železnici 12\, Ljubljana\, 1000\, Slovenija
CATEGORIES:izobraževanja
ATTACH;FMTTYPE=image/jpeg:https://labtim.si/wp-content/uploads/2024/04/MS-gordan.jpg
END:VEVENT
END:VCALENDAR